BEGIN:VCALENDAR
VERSION:2.0
PRODID:-//Winston Salem Fairgrounds - ECPv6.15.8//NONSGML v1.0//EN
CALSCALE:GREGORIAN
METHOD:PUBLISH
X-WR-CALNAME:Winston Salem Fairgrounds
X-ORIGINAL-URL:https://wsfairgrounds.com
X-WR-CALDESC:Events for Winston Salem Fairgrounds
REFRESH-INTERVAL;VALUE=DURATION:PT1H
X-Robots-Tag:noindex
X-PUBLISHED-TTL:PT1H
BEGIN:VTIMEZONE
TZID:America/New_York
BEGIN:DAYLIGHT
TZOFFSETFROM:-0500
TZOFFSETTO:-0400
TZNAME:EDT
DTSTART:20240310T070000
END:DAYLIGHT
BEGIN:STANDARD
TZOFFSETFROM:-0400
TZOFFSETTO:-0500
TZNAME:EST
DTSTART:20241103T060000
END:STANDARD
BEGIN:DAYLIGHT
TZOFFSETFROM:-0500
TZOFFSETTO:-0400
TZNAME:EDT
DTSTART:20250309T070000
END:DAYLIGHT
BEGIN:STANDARD
TZOFFSETFROM:-0400
TZOFFSETTO:-0500
TZNAME:EST
DTSTART:20251102T060000
END:STANDARD
BEGIN:DAYLIGHT
TZOFFSETFROM:-0500
TZOFFSETTO:-0400
TZNAME:EDT
DTSTART:20260308T070000
END:DAYLIGHT
BEGIN:STANDARD
TZOFFSETFROM:-0400
TZOFFSETTO:-0500
TZNAME:EST
DTSTART:20261101T060000
END:STANDARD
END:VTIMEZONE
BEGIN:VEVENT
DTSTART;TZID=America/New_York:20250726T183000
DTEND;TZID=America/New_York:20250726T213000
DTSTAMP:20260420T065915
CREATED:20250721T165247Z
LAST-MODIFIED:20250721T165247Z
UID:10000533-1753554600-1753565400@wsfairgrounds.com
SUMMARY:Carolina Classic Fair Night at Carolina Disco Turkeys
DESCRIPTION:Join the Carolina Classic Fair as we kick off the 2025 fair season at the Carolina Disco Turkeys! This will be the first chance to win fair tickets and fair swag\, so don’t wait to buy tickets! It’ll be a fun evening of baseball and fair fun as the Disco Turkeys close out their 2025 season. \nDate and Time: July 26\, 2025 at 6:30 p.m. \nLocation: David F. Couch Ballpark\, 401 Deacon Blvd.\, Winston-Salem\, NC 27105 \nClick here to buy tickets!\n 
URL:https://wsfairgrounds.com/event/ccf-disco-turkeys-night/
LOCATION:David F. Couch Ballpark\, 401 Deacon Blvd\, Winston-Salem\, NC\, 27105\, United States
ATTACH;FMTTYPE=image/jpeg:https://wsfairgrounds.com/wp-content/uploads/2025/07/Disco-Turkeys-CCF-Marquee.jpg
END:VEVENT
END:VCALENDAR